BEGIN:VCALENDAR
VERSION:2.0
PRODID:-//SECIHTI - ECPv6.15.16//NONSGML v1.0//EN
CALSCALE:GREGORIAN
METHOD:PUBLISH
X-WR-CALNAME:SECIHTI
X-ORIGINAL-URL:https://enbc.secihti.mx
X-WR-CALDESC:Eventos para SECIHTI
REFRESH-INTERVAL;VALUE=DURATION:PT1H
X-Robots-Tag:noindex
X-PUBLISHED-TTL:PT1H
BEGIN:VTIMEZONE
TZID:America/Mexico_City
BEGIN:STANDARD
TZOFFSETFROM:-0600
TZOFFSETTO:-0600
TZNAME:CST
DTSTART:20240101T000000
END:STANDARD
END:VTIMEZONE
BEGIN:VEVENT
DTSTART;TZID=America/Mexico_City:20250113T050000
DTEND;TZID=America/Mexico_City:20250131T233000
DTSTAMP:20260420T190237
CREATED:20250113T221122Z
LAST-MODIFIED:20251028T232403Z
UID:2507-1736744400-1738366200@enbc.secihti.mx
SUMMARY:Premio “Science\, she says!”
DESCRIPTION:Bases e información: \nhttps://lc.cx/soSoEb \nConvocatoria: \nEl AMAECI en Italia invita a jóvenes investigadoras extranjeras (menores de 40 años)\, que se han destacado en la cooperación científica bilateral con Italia en cualquier campo de la ciencia y la tecnología\, para presentar candidaturas y participar en la tercera edición del Premio “Science\, she says!”. \nPara más información sobre el registro al premio\, se invita a consultar el siguiente enlace: https://lc.cx/soSoEb. El registro cerrará el 31 de enero de 2025. \nPara consultas y dudas de la presente convocatoria\, podrán ser dirigidas al siguiente correo electrónico: messico.scienza@esteri.it.
URL:https://enbc.secihti.mx/evento/premio-science-she-says/
ATTACH;FMTTYPE=image/png:https://enbc.secihti.mx/wp-content/uploads/2025/10/Imagen1.png
END:VEVENT
END:VCALENDAR